BEGIN:VCALENDAR
VERSION:2.0
PRODID:-//wp-events-plugin.com//7.2.3.1//EN
TZID:Europe/Berlin
X-WR-TIMEZONE:Europe/Berlin
BEGIN:VEVENT
UID:35@hypno-coach.de
DTSTART;TZID=Europe/Berlin:20141115T110000
DTEND;TZID=Europe/Berlin:20141115T190000
DTSTAMP:20141111T081623Z
URL:https://www.hypno-coach.de/hypnose-seminar/tagesworkshop-microexpressi
 ons-mimik-emotionen-und-koerpersprache/
SUMMARY:Tagesworkshop: microexpressions\, Mimik\, Emotionen und Körperspra
 che
DESCRIPTION:Facecoaching Tagesworkshop\nMicroexpressions Mimik Emotionen K
 örpersprache\n\nUnterdrückte oder unbewusste Emotionen hinterlassen\n\nf
 ür den Bruchteil einer Sekunde Spuren im Gesicht eines\n\nMenschen\, soge
 nannte microexpressions.\n\nDiese unwillentlichen Gesichtsausdrücke sind\
 n\nhervorragende Wegweiser im Gespräch\,\n\nweil sie - kompetent und ethi
 sch genutzt - wertvolle\n\nHinweise auf die zugrundeliegenden Emotionen de
 s\n\nGesprächspartners sind. Sie sind nicht kontrollierbar\,\n\nsie sind 
 echt und daher so wertvoll.\n\nErfahren Sie mehr über microexpressions\, 
 Mimiken\,\n\nKörpersprache und die dazugehörigen Emotionen Ärger\,\n\nV
 erachtung\, Ekel\, Freude\, Angst\, Trauer und Überraschung.\n\nKommen Si
 e mit auf Spurensuche!\n\nIch freue mich auf Sie\n\nHenning Olesen\n\n&nbs
 p\;\n- Was sind microexpressions?\n - Was sind Emotionen und was Gefühl
 e?\n - Gesichter sind lebendig\n\n - Begriffe und verwendete Basistermi
 nologien\n\n - Begriffe\, die Regionen und Merkmale des\n\nGesichtes bes
 chreiben\n\n - Begriffe\, die Veränderungen der Lippen\n\nbeschreiben\n
 \n - Begriffe\, die Kennzeichen der Haut beschreiben\n\n - Begriffe\, 
 die vorübergehende Veränderungen der\n\nHaut beschreiben\n\n - Muskelb
 ewegungen im Gesicht erkennen\n\n - Welche Muskeln gibt es?\n\n - Kopf
 - und Augenbewegungen\n\n - Die Spuren der 7 Basisemotionen im Gesicht\n
 \nerkennen:\n\nWut\, Ärger\, Freude\, Traurigkeit\, Verachtung\, Ekel und
  Angst\n\n- online Übungsmöglichkeiten\nNutzen Sie dieses Wissen und ..
 .\n... erweitern Sie als Coach oder Therapeut Ihre Emotionswahrnehmung.\nL
 ernen Sie microexpressions im Coaching prozessorientiert zu nutzen und erm
 öglichen Sie Ihrem Coachee ein\nneues Emotionsbewusstsein. Mit diesem Bew
 usstsein helfen Sie Ihrem Coachee sich schneller und klarer auf\nsein Them
 a zu fokussieren.\n... sehen Sie klarer in Mitarbeiter- und Bewerbungsgesp
 rächen.\nNehmen Sie die Emotionen und Stimmungen Ihres Gegenübers bewuss
 ter wahr und kommen so effizienter\nund zielgerichteter zu einem für beid
 e Seiten erfolgreichen Ergebnis.\n... überzeugen Sie im Kunden- und Verka
 ufsgespräch durch eine hohe emotionale Gesprächskompetenz.\nOrientieren 
 Sie sich beim Gespräch auch an den mircoexpressions Ihres Gegenübers. F
 ühren Sie erfolgreiche\,\nkompetente\, faire und abschlussorientierte Ges
 präche.\n... legen Sie in der Mediation achtsam die unbewussten Emotionen
  offen und erzeugen Sie so mehr\nBewusstheit\, Klarheit und Verständnis b
 ei den Konfliktparteien.\n... für eine würdevolle\, bedürfnis- und gef
 ühlsorientierte Begleitung Ihrer Patienten:\nNehmen Sie Emotionen und die
  darin zum Ausdruck kommenden Bedürfnisse noch deutlicher wahr - die Ihre
 r\nPatienten und Ihre eigenen. Gönnen Sie es sich\, Ihnen anvertraute Men
 schen leichter zu verstehen und besser\nunterstützen zu können\, indem s
 ie eine Kommunikationsform trainieren\, die Ihnen den Umgang sogar mit\nso
 lchen Patienten deutlich erleichtert\, deren kognitive Ausdrucksfähigkeit
  verloren ging oder geht. Erzeugen Sie\neine vertrauensvolle und wertschä
 tzende Patientenbeziehung\, in der sich beide Seiten anerkannter\, wohler 
 und\nsicherer fühlen. Gestalten Sie Eigenständigkeit undLebensqualität 
 für Ihre Patienten und für sich.\n&nbsp\;\n  Der Tagesworkshop bietet I
 hnen eine gelungene\n  Kombination aus Praxis und Theorie. Die Lerninhalt
 e\n  werden praktisch erfahren\, in der Gruppe reflektiert und\n  nutzba
 r gemacht und schließlich um fundierte\, aktuelle\n  Erkenntnisse erweit
 ert.\n  Das ermöglicht Ihnen einen hohen Nutzentransfer in Ihre\n  Prax
 is. Lernanker und Fotoprotokoll unterstützen zusätzlich\n  den Lerntran
 sfer in den Alltag.\n  Dabei ist mir die Zeit wichtig\, sowohl die einzel
 nen\n  Workshop- und Lerninhalte im Detail zu betrachten und zu\n  üben
 \, als auch den Überblick über den Gesamtkontext zu\n  bewahren und den
  Bezug zu Ihren persönlichen\nAnwendungsfeldern herzustellen.\nDie Teilne
 hmerzahl für den Workshop ist daher begrenzt\, um parallel zur Gruppenler
 nerfahrung die individuelle\nBegleitung des Einzelnen zu gewährleisten.\n
 \n\nTagesworkshop mit Henning Olesen\n- Microexpressions\, Mimik\, Emotio
 nen und Körpersprache\n\nQuiz:\n\nWelche Emotionen erkennen Sie?\n\n\n\n
 &nbsp\;\n\n&nbsp\;\nHenning Olesen \nIch bin begeistert und darauf\nspezi
 alisiert\, die Emotionsspuren\nin Gesicht und Körpersprache\nmeiner Kunde
 n zu lesen\, wahrzunehmen\nund nutzbar zu machen\,\num meinen Kunden mehr 
 Klarheit\,\nBewusstheit und Verständnis für sich und ihre\nProzesse zu e
 rmöglichen: Raus aus der kognitiven\nScheinwelt\, rein in’s wahre emoti
 onale Er-Leben!\nJahrgang 1974\, verheiratet und zwei Kinder.\nNach erfolg
 reichen Ausbildungen im Bereich NLP\,\nHypnose\, der Kinesiologie und Coac
 hing\, folgte eine\nfundierte Aus- und Weiterbildung im facial action\ncod
 ing system (F.A.C.S.) nach Dr. Paul Ekman.\nDurch weitere Erfahrungen im B
 ereich der\nAntlitzdiagnostik und Gesichtsphysiognomie\nentwickelte ich -f
 acecoaching- als Methode und\nHaltung in der Arbeit mit Menschen.\n! Ich b
 in u.a. Ausbilder für balancecoaches (das Burnout und\nStresspräventions
 programm mit Einzelcoaching) und\nCoaches mit gestalttherapeutischem Ansat
 z.\n\n! Seit 2010 veröffentliche und schreibe ich regelmäßig\n\nArtikel
  für namenhafte Zeitschriften\, Magazine\,\n\nOnlinepublikationen und Bü
 cher und bin Herausgeber\n\ndes facecoaching-Spiels und facecoaching - Seh
 tests.\n\n! 2011-2013 war ich als Referent beim DVNLP Kongress\n\nund 2012
  internationaler Catalyst beim ICF World\n\nCongress in London\, sowie Lei
 ter der Studie\n\n"microexpressions and coaching"\, "facecoaching in der\n
 \nBurnoutprävention“ und „facecoaching in der\n\nDemenzarbeit“. Als
  Dozent arbeite ich unter anderem\n\nan der ECP-Akademie und den Paracelsu
 s-Schulen.\n\n&nbsp\;\n\n"Wichtig" Sie werden nach der Buchung direkt zu P
 aypal und zur Zahlung weiter geleitet. Nutzen Sie bitte bei der Anmeldung 
 die eMail Adresse die Sie auch bei Paypal für Zahlungen hinterlegt haben.
  Wenn Sie die Offline Zahlung auswählen\, erhalten Sie die Kontonummer zu
 r Zahlung. Sie erhalten von uns "keine" weitere Nachricht als die vom Syst
 em automatisch erstellten. Bitte überweisen Sie innerhalb von 5 Tagen den
  Betrag. Ansonsten löschen wir die Buchung wieder und geben die gebuchten
  Plätze frei. Danke für Ihr Verständnis."\n\n&nbsp\;
ATTACH;FMTTYPE=image/jpeg:https://www.hypno-coach.de/wp-content/uploads/20
 14/09/Bildschirmfoto-2014-09-15-um-22.09.26.png
CATEGORIES:Hypnose
LOCATION:Düsseldorf\, Marienstr.20\, Düsseldorf\, 40212\, Deutschland
GEO:51.223224;6.784838
X-APPLE-STRUCTURED-LOCATION;VALUE=URI;X-ADDRESS=Marienstr.20\, Düsseldorf\
 , 40212\, Deutschland;X-APPLE-RADIUS=100;X-TITLE=Düsseldorf:geo:51.223224
 ,6.784838
END:VEVENT
BEGIN:VTIMEZONE
TZID:Europe/Berlin
X-LIC-LOCATION:Europe/Berlin
BEGIN:STANDARD
DTSTART:20141026T020000
TZOFFSETFROM:+0200
TZOFFSETTO:+0100
TZNAME:CET
END:STANDARD
END:VTIMEZONE
END:VCALENDAR